BEGIN:VCALENDAR
VERSION:2.0
PRODID:-//Catholique78 - ECPv4.1.1.1//NONSGML v1.0//EN
CALSCALE:GREGORIAN
METHOD:PUBLISH
X-ORIGINAL-URL:https://www.catholique78.fr
BEGIN:VEVENT
DTSTART;VALUE=DATE:20260321
DTEND;VALUE=DATE:20260321
DTSTAMP:20260420T083940Z
CREATED:20260212
LAST-MODIFIED:20260212
UID:69e5e64cd178f-catholique78
SUMMARY:Après-midi « Chant et Liturgie »
DESCRIPTION:Après-midi « Chant et Liturgie »
URL:https://www.catholique78.fr/?post_type=evenement&p=1007576
LOCATION:Église Notre-Dame de l'Espérance\,
4\, place du Livradois à Maurepas
GEO:47.9841791;3.3942291
X-APPLE-STRUCTURED-LOCATION;VALUE=URI;X-ADDRESS=Église Notre-Dame de l'Espérance\,
4\, place du Livradois à Maurepas;X-APPLE-RADIUS=500;X-TITLE=Église Notre-Dame de l'Espérance\,
4\, place du Livradois à Maurepas
ATTACH;FMTTYPE=image/jpeg:https://www.catholique78.fr/wp-content/uploads/2026/02/chorale-2026-catho78-500.jpg
END:VEVENT
END:VCALENDAR
