BEGIN:VCALENDAR
VERSION:2.0
PRODID:-//Catholique78 - ECPv4.1.1.1//NONSGML v1.0//EN
CALSCALE:GREGORIAN
METHOD:PUBLISH
X-ORIGINAL-URL:https://www.catholique78.fr
BEGIN:VEVENT
DTSTART;VALUE=DATE:20260514
DTEND;VALUE=DATE:20260517
DTSTAMP:20260422T142022Z
CREATED:20260324
LAST-MODIFIED:20260324
UID:69e8d926f2d71-catholique78
SUMMARY:Pélé Vocations 2026 (Jeunes hommes 17-30 ans)
DESCRIPTION:Pélé Vocations 2026 (Jeunes hommes 17-30 ans)
URL:https://www.catholique78.fr/evenement/pele-vocations-2026-jeunes-hommes-17-30-ans/
LOCATION:De Fontevraud à Cholet
GEO:47.9841791;3.3942291
X-APPLE-STRUCTURED-LOCATION;VALUE=URI;X-ADDRESS=De Fontevraud à Cholet;X-APPLE-RADIUS=500;X-TITLE=De Fontevraud à Cholet
ATTACH;FMTTYPE=image/jpeg:https://www.catholique78.fr/wp-content/uploads/2026/03/4267-pele-vocations-2026-800x550-1.jpg
END:VEVENT
END:VCALENDAR
