BEGIN:VCALENDAR
VERSION:2.0
PRODID:-//Catholique78 - ECPv4.1.1.1//NONSGML v1.0//EN
CALSCALE:GREGORIAN
METHOD:PUBLISH
X-ORIGINAL-URL:https://www.catholique78.fr
BEGIN:VEVENT
DTSTART;VALUE=DATE:20260425
DTEND;VALUE=DATE:20260425
DTSTAMP:20260420T032645Z
CREATED:20260324
LAST-MODIFIED:20260324
UID:69e59cf56a010-catholique78
SUMMARY:Départ pour le pèlerinage diocésain à Lourdes
DESCRIPTION:Départ pour le pèlerinage diocésain à Lourdes
URL:https://www.catholique78.fr/evenement/depart-pour-le-pelerinage-diocesain-a-lourdes/
LOCATION:
GEO:47.9841791;3.3942291
X-APPLE-STRUCTURED-LOCATION;VALUE=URI;X-ADDRESS=;X-APPLE-RADIUS=500;X-TITLE=
END:VEVENT
END:VCALENDAR
