BEGIN:VCALENDAR
VERSION:2.0
PRODID:-//Catholique78 - ECPv4.1.1.1//NONSGML v1.0//EN
CALSCALE:GREGORIAN
METHOD:PUBLISH
X-ORIGINAL-URL:https://www.catholique78.fr
BEGIN:VEVENT
DTSTART;VALUE=DATE:20260502
DTEND;VALUE=DATE:20260502
DTSTAMP:20260424T031056Z
CREATED:20260324
LAST-MODIFIED:20260324
UID:69eadf40226e0-catholique78
SUMMARY:Consécration de Cécile de Bentzmann dans l'ordre des Vierges Consacrées à 15h00
DESCRIPTION:Consécration de Cécile de Bentzmann dans l'ordre des Vierges Consacrées à 15h00
URL:https://www.catholique78.fr/evenement/consecration-de-cecile-de-bentzmann-dans-lordre-des-vierges-consacrees/
LOCATION:Cathédrale Saint Louis de Versailles
GEO:47.9841791;3.3942291
X-APPLE-STRUCTURED-LOCATION;VALUE=URI;X-ADDRESS=Cathédrale Saint Louis de Versailles;X-APPLE-RADIUS=500;X-TITLE=Cathédrale Saint Louis de Versailles
END:VEVENT
END:VCALENDAR
