BEGIN:VCALENDAR
VERSION:2.0
PRODID:-//Catholique78 - ECPv4.1.1.1//NONSGML v1.0//EN
CALSCALE:GREGORIAN
METHOD:PUBLISH
X-ORIGINAL-URL:https://www.catholique78.fr
BEGIN:VEVENT
DTSTART;VALUE=DATE:20260509
DTEND;VALUE=DATE:20260509
DTSTAMP:20260419T153000Z
CREATED:20260417
LAST-MODIFIED:20260417
UID:69e4f4f810afa-catholique78
SUMMARY:Nuit des cathédrales
DESCRIPTION:Nuit des cathédrales
URL:https://www.catholique78.fr/evenement/nuit-des-cathedrales/
LOCATION:Cathédrale St Louis\, place St Louis à Versailles
GEO:47.9841791;3.3942291
X-APPLE-STRUCTURED-LOCATION;VALUE=URI;X-ADDRESS=Cathédrale St Louis\, place St Louis à Versailles;X-APPLE-RADIUS=500;X-TITLE=Cathédrale St Louis\, place St Louis à Versailles
ATTACH;FMTTYPE=image/png:https://www.catholique78.fr/wp-content/uploads/2026/04/nuit-cathedrales.png
END:VEVENT
END:VCALENDAR
